BEGIN:VCALENDAR
VERSION:2.0
PRODID:-//pretix//pretix.eu//
BEGIN:VTIMEZONE
TZID:Europe/Berlin
BEGIN:STANDARD
DTSTART:20001029T040000
RRULE:FREQ=YEARLY;BYDAY=-1SU;BYMONTH=10
TZNAME:CET
TZOFFSETFROM:+0200
TZOFFSETTO:+0100
END:STANDARD
BEGIN:DAYLIGHT
DTSTART:20000326T030000
RRULE:FREQ=YEARLY;BYDAY=-1SU;BYMONTH=3
TZNAME:CEST
TZOFFSETFROM:+0100
TZOFFSETTO:+0200
END:DAYLIGHT
END:VTIMEZONE
BEGIN:VEVENT
UID:pretix-flipperspots-2023-09-0@events.flipperspots.com
DTSTART;TZID=Europe/Berlin:20230903T110000
DTEND;TZID=Europe/Berlin:20230903T180000
DESCRIPTION:Tickets: https://events.flipperspots.com/2023-09/\nVeranstalter
 : Flipperspots
DTSTAMP:20260421T110244Z
LOCATION:Flipperlounge im Massif Central\, Bethmannstr. 7-9\, 60311 Frankfu
 rt am Main
SUMMARY:Flipperparty im Massif Central (mit IFPA Group Matchplay Turnier)
END:VEVENT
END:VCALENDAR
