BEGIN:VCALENDAR
VERSION:2.0
PRODID:-//pretix//pretix.eu//
BEGIN:VTIMEZONE
TZID:Europe/Berlin
BEGIN:STANDARD
DTSTART:20001029T040000
RRULE:FREQ=YEARLY;BYDAY=-1SU;BYMONTH=10
TZNAME:CET
TZOFFSETFROM:+0200
TZOFFSETTO:+0100
END:STANDARD
BEGIN:DAYLIGHT
DTSTART:20000326T030000
RRULE:FREQ=YEARLY;BYDAY=-1SU;BYMONTH=3
TZNAME:CEST
TZOFFSETFROM:+0100
TZOFFSETTO:+0200
END:DAYLIGHT
END:VTIMEZONE
BEGIN:VEVENT
UID:pretix-flipperspots-fc2026-0@events.flipperspots.com
DTSTART;TZID=Europe/Berlin:20260328T110000
DTEND;TZID=Europe/Berlin:20260328T230000
DESCRIPTION:Tickets: https://events.flipperspots.com/fc2026/\nOrganizer: Fl
 ipperspots
DTSTAMP:20260421T093801Z
LOCATION:Flipperlounge @ Massif Central\, Bethmannstr. 7-9\, 60311 Frankfur
 t am Main
SUMMARY:Frankfurt Pinball Cup 2026
END:VEVENT
END:VCALENDAR
